BEGIN:VCALENDAR
VERSION:2.0
PRODID:-//Trnavske materske centrum//SK
CALSCALE:GREGORIAN
METHOD:PUBLISH
BEGIN:VEVENT
UID:event-83@trnavskemc.sk
DTSTAMP:20260425T134644Z
DTSTART;TZID=Europe/Bratislava:20260403T140000
DTEND;TZID=Europe/Bratislava:20260403T153000
SUMMARY:Detský výtvarný krúžok Rybička
DESCRIPTION:Detská fantázia bez tlaku. Pre začiatočníkov aj budúcich umelcov.
LOCATION:Okružná 20\, Trnava
END:VEVENT
END:VCALENDAR
