BEGIN:VCALENDAR
VERSION:2.0
PRODID:-//Trnavske materske centrum//SK
CALSCALE:GREGORIAN
METHOD:PUBLISH
BEGIN:VEVENT
UID:event-82@trnavskemc.sk
DTSTAMP:20260425T134808Z
DTSTART;TZID=Europe/Bratislava:20260430T170000
DTEND;TZID=Europe/Bratislava:20260430T190000
SUMMARY:Kurz maľby a kresby pre dospelých
DESCRIPTION:Relax a farby vo vlastnom tempe. Aj pre úplných začiatočníkov.
LOCATION:Okružná 20\, Trnava
END:VEVENT
END:VCALENDAR
