BEGIN:VCALENDAR
VERSION:2.0
PRODID:-//Trnavske materske centrum//SK
CALSCALE:GREGORIAN
METHOD:PUBLISH
BEGIN:VEVENT
UID:event-76@trnavskemc.sk
DTSTAMP:20260425T134645Z
DTSTART;TZID=Europe/Bratislava:20260423T140000
DTEND;TZID=Europe/Bratislava:20260423T160000
SUMMARY:Kurz maľby a kresby pre dospelých
DESCRIPTION:Relax a farby vo vlastnom tempe. Aj pre úplných začiatočníkov.
LOCATION:Okružná 20\, Trnava
END:VEVENT
END:VCALENDAR
