BEGIN:VCALENDAR
VERSION:2.0
PRODID:-//Trnavske materske centrum//SK
CALSCALE:GREGORIAN
METHOD:PUBLISH
BEGIN:VEVENT
UID:event-64@trnavskemc.sk
DTSTAMP:20260425T134724Z
DTSTART;TZID=Europe/Bratislava:20260430T094500
DTEND;TZID=Europe/Bratislava:20260430T104500
SUMMARY:AKO NA EMÓCIE
DESCRIPTION:ako pracovať so svojimi emóciami a zvládať emócie svojich detí – workshop s Mgr. E. Michalcovou\, ACC\, andragóg
LOCATION:Okružná 20\, Trnava
END:VEVENT
END:VCALENDAR
