BEGIN:VCALENDAR
VERSION:2.0
PRODID:-//Trnavske materske centrum//SK
CALSCALE:GREGORIAN
METHOD:PUBLISH
BEGIN:VEVENT
UID:event-63@trnavskemc.sk
DTSTAMP:20260425T134650Z
DTSTART;TZID=Europe/Bratislava:20260429T090000
DTEND;TZID=Europe/Bratislava:20260429T120000
SUMMARY:ŠIJEME DETOM
DESCRIPTION:kurz šitia pre mamy pod vedením Ing. Jany Mikulášovej
LOCATION:Okružná 20\, Trnava
END:VEVENT
END:VCALENDAR
