BEGIN:VCALENDAR
VERSION:2.0
PRODID:-//Trnavske materske centrum//SK
CALSCALE:GREGORIAN
METHOD:PUBLISH
BEGIN:VEVENT
UID:event-61@trnavskemc.sk
DTSTAMP:20260425T134933Z
DTSTART;TZID=Europe/Bratislava:20260428T104500
DTEND;TZID=Europe/Bratislava:20260428T114500
SUMMARY:HŠ YAMAHA - Prvé krôčiky k hudbe
DESCRIPTION:pre deti od 1\,5 roka
LOCATION:Okružná 20\, Trnava
END:VEVENT
END:VCALENDAR
