BEGIN:VCALENDAR
VERSION:2.0
PRODID:-//Trnavske materske centrum//SK
CALSCALE:GREGORIAN
METHOD:PUBLISH
BEGIN:VEVENT
UID:event-57@trnavskemc.sk
DTSTAMP:20260425T134917Z
DTSTART;TZID=Europe/Bratislava:20260425T093000
DTEND;TZID=Europe/Bratislava:20260425T120000
SUMMARY:BLŠIE TRHY
DESCRIPTION:jarná burza detského a tehotenského ošatenia a detských potrieb\, spojená s predajom BAREFOOT topánok
LOCATION:Okružná 20\, Trnava
END:VEVENT
END:VCALENDAR
