BEGIN:VCALENDAR
VERSION:2.0
PRODID:-//Trnavske materske centrum//SK
CALSCALE:GREGORIAN
METHOD:PUBLISH
BEGIN:VEVENT
UID:event-56@trnavskemc.sk
DTSTAMP:20260425T134644Z
DTSTART;TZID=Europe/Bratislava:20260424T100000
DTEND;TZID=Europe/Bratislava:20260424T110000
SUMMARY:PODPORNÁ SKUPINA DOJČENIA
DESCRIPTION:s laktačnou poradkyňou Adrianou Candrákovou
LOCATION:Okružná 20\, Trnava
END:VEVENT
END:VCALENDAR
