BEGIN:VCALENDAR
VERSION:2.0
PRODID:-//Trnavske materske centrum//SK
CALSCALE:GREGORIAN
METHOD:PUBLISH
BEGIN:VEVENT
UID:event-55@trnavskemc.sk
DTSTAMP:20260425T134820Z
DTSTART;TZID=Europe/Bratislava:20260423T100000
DTEND;TZID=Europe/Bratislava:20260423T110000
SUMMARY:ENGLISH TEATIME
DESCRIPTION:anglické konverzácie s Katkou z ELA JAZYKOVKA - oprášme si angličtinu pri šálke čaju či kávy
LOCATION:Okružná 20\, Trnava
END:VEVENT
END:VCALENDAR
