BEGIN:VCALENDAR
VERSION:2.0
PRODID:-//Trnavske materske centrum//SK
CALSCALE:GREGORIAN
METHOD:PUBLISH
BEGIN:VEVENT
UID:event-54@trnavskemc.sk
DTSTAMP:20260425T134934Z
DTSTART;TZID=Europe/Bratislava:20260422T100000
DTEND;TZID=Europe/Bratislava:20260422T110000
SUMMARY:CESTOU NECESTOU
DESCRIPTION:chodníček s balančnými prvkami a prekážkami – od 1\,5 roka
LOCATION:Okružná 20\, Trnava
END:VEVENT
END:VCALENDAR
