BEGIN:VCALENDAR
VERSION:2.0
PRODID:-//Trnavske materske centrum//SK
CALSCALE:GREGORIAN
METHOD:PUBLISH
BEGIN:VEVENT
UID:event-50@trnavskemc.sk
DTSTAMP:20260425T134808Z
DTSTART;TZID=Europe/Bratislava:20260421T085000
DTEND;TZID=Europe/Bratislava:20260421T095000
SUMMARY:HUDOBNÁ ŠKOLA YAMAHA - Robík
DESCRIPTION:pre deti od 4 mesiacov
LOCATION:Okružná 20\, Trnava
END:VEVENT
END:VCALENDAR
