BEGIN:VCALENDAR
VERSION:2.0
PRODID:-//Trnavske materske centrum//SK
CALSCALE:GREGORIAN
METHOD:PUBLISH
BEGIN:VEVENT
UID:event-48@trnavskemc.sk
DTSTAMP:20260425T134821Z
DTSTART;TZID=Europe/Bratislava:20260417T100000
DTEND;TZID=Europe/Bratislava:20260417T110000
SUMMARY:SPIEVANKY
DESCRIPTION:veselé detské pesničky a ukazovačky pri gitare s Ľubošom
LOCATION:Okružná 20\, Trnava
END:VEVENT
END:VCALENDAR
