BEGIN:VCALENDAR
VERSION:2.0
PRODID:-//Trnavske materske centrum//SK
CALSCALE:GREGORIAN
METHOD:PUBLISH
BEGIN:VEVENT
UID:event-47@trnavskemc.sk
DTSTAMP:20260425T134809Z
DTSTART;TZID=Europe/Bratislava:20260415T100000
DTEND;TZID=Europe/Bratislava:20260415T113000
SUMMARY:MONTESSORI HERNE
DESCRIPTION:vhodné pre deti od dvoch rokov
LOCATION:Okružná 20\, Trnava
END:VEVENT
END:VCALENDAR
