BEGIN:VCALENDAR
VERSION:2.0
PRODID:-//Trnavske materske centrum//SK
CALSCALE:GREGORIAN
METHOD:PUBLISH
BEGIN:VEVENT
UID:event-44@trnavskemc.sk
DTSTAMP:20260425T134648Z
DTSTART;TZID=Europe/Bratislava:20260414T095000
DTEND;TZID=Europe/Bratislava:20260414T105000
SUMMARY:HŠ YAMAHA - Prvé krôčiky k hudbe
DESCRIPTION:pre deti od 1\,5 roka
LOCATION:Okružná 20\, Trnava
END:VEVENT
END:VCALENDAR
