BEGIN:VCALENDAR
VERSION:2.0
PRODID:-//Trnavske materske centrum//SK
CALSCALE:GREGORIAN
METHOD:PUBLISH
BEGIN:VEVENT
UID:event-41@trnavskemc.sk
DTSTAMP:20260425T134704Z
DTSTART;TZID=Europe/Bratislava:20260410T093000
DTEND;TZID=Europe/Bratislava:20260410T103000
SUMMARY:PODPORNÁ SKUPINA NOSENIA DETÍ
DESCRIPTION:s Barborou Stuchlíkovou – viazanie šatiek\, nastavovanie nosičov\, poradenstvo
LOCATION:Okružná 20\, Trnava
END:VEVENT
END:VCALENDAR
