BEGIN:VCALENDAR
VERSION:2.0
PRODID:-//Trnavske materske centrum//SK
CALSCALE:GREGORIAN
METHOD:PUBLISH
BEGIN:VEVENT
UID:event-38@trnavskemc.sk
DTSTAMP:20260425T134826Z
DTSTART;TZID=Europe/Bratislava:20260407T162000
DTEND;TZID=Europe/Bratislava:20260407T172000
SUMMARY:TEDDY EDDIE
DESCRIPTION:angličtina pre najmenších – s Ela jazykovkou
LOCATION:Okružná 20\, Trnava
END:VEVENT
END:VCALENDAR
